BEGIN:VCALENDAR
VERSION:2.0
PRODID:-//ExpressionEngine Easy iCalendar plugin//NONSGML v2.0.1//EN
X-WR-TIMEZONE:America/Chicago
X-WR-CALNAME:Upcoming Auctions
BEGIN:VEVENT
UID:104347
DTSTAMP:20230719T100000
DTSTART:20230719T100000
DTEND:20230728T100000
SUMMARY:Channelview Independent School District - Channelview\, TX
LOCATION:915 Dell Dale St.\, Channelview\, TX 77530\, US
DESCRIPTION:Selling: Cafeteria Equipment and Furniture\, Athletic Equipme
 nt\, Student and Office Furniture\, and More - B.P. 14%
URL:https://www.onlinepros.com/auctions/detail/bw104347
SEQUENCE:1
END:VEVENT
END:VCALENDAR