BEGIN:VCALENDAR
VERSION:2.0
PRODID:-//ExpressionEngine Easy iCalendar plugin//NONSGML v2.0.0//EN
X-WR-TIMEZONE:America/Chicago
X-WR-CALNAME:Upcoming Auctions
BEGIN:VEVENT
UID:108134
DTSTAMP:20230919T100000
DTSTART:20230919T100000
DTEND:20230926T100000
SUMMARY:Northside Independent School District
LOCATION:607 Richland Hills Dr.\, San Antonio\, TX 78245\, US
DESCRIPTION:Selling: Science Tables\, Folding Tables\, Student Chairs\, Com
 mercial Refrigerator\, and More. 14% B.P.
URL:https://www.onlinepros.com/auctions/detail/bw108134
SEQUENCE:1
END:VEVENT
END:VCALENDAR