BEGIN:VCALENDAR
VERSION:2.0
PRODID:-//ExpressionEngine Easy iCalendar plugin//NONSGML v2.0.1//EN
X-WR-TIMEZONE:America/Chicago
X-WR-CALNAME:Upcoming Auctions
BEGIN:VEVENT
UID:111243
DTSTAMP:20231115T100000
DTSTART:20231115T100000
DTEND:20231129T102600
SUMMARY:Shepherd Independent School District - Shepherd\, TX
LOCATION:10351 TX-150\, Shepherd\, TX 77371\, US
DESCRIPTION:Selling: Cafeteria Equipment and Furniture\, Air or Electric 
 Tools and Equipment\, Student and Office Furniture\, Light Con
 struction Equipment\, and More - 14% B.P
URL:https://www.onlinepros.com/auctions/detail/bw111243
SEQUENCE:1
END:VEVENT
END:VCALENDAR