BEGIN:VCALENDAR
VERSION:2.0
PRODID:-//ExpressionEngine Easy iCalendar plugin//NONSGML v2.0.0//EN
X-WR-TIMEZONE:America/Chicago
X-WR-CALNAME:Upcoming Auctions
BEGIN:VEVENT
UID:134915
DTSTAMP:20250213T100000
DTSTART:20250213T100000
DTEND:20250225T100000
SUMMARY:Leander ISD- Cedar Park\, TX 78613
LOCATION:1900 Cougar Country DR\, Cedar Park\, TX 78613\, US
DESCRIPTION:Selling: Cafeteria Equipment\, Projector Screens\, Office Furn
 iture and More! 14% B.P. 
URL:https://www.onlinepros.com/auctions/detail/bw134915
SEQUENCE:1
END:VEVENT
END:VCALENDAR