BEGIN:VCALENDAR
VERSION:2.0
PRODID:-//ExpressionEngine Easy iCalendar plugin//NONSGML v2.0.1//EN
X-WR-TIMEZONE:America/Chicago
X-WR-CALNAME:Upcoming Auctions
BEGIN:VEVENT
UID:143051
DTSTAMP:20250626T110700
DTSTART:20250626T110700
DTEND:20250715T120000
SUMMARY:2010 Ford Edge (Seller: Individual) - Tomball\, TX
LOCATION:18810 Juergen Road\, Tomball\, TX 77377\, US
DESCRIPTION:Selling: 2010 Ford Edge - 14% B.P.
URL:https://www.onlinepros.com/auctions/detail/bw143051
SEQUENCE:1
END:VEVENT
END:VCALENDAR