BEGIN:VCALENDAR
VERSION:2.0
PRODID:-//ExpressionEngine Easy iCalendar plugin//NONSGML v2.0.1//EN
X-WR-TIMEZONE:America/Chicago
X-WR-CALNAME:Upcoming Auctions
BEGIN:VEVENT
UID:147634
DTSTAMP:20250917T100000
DTSTART:20250917T100000
DTEND:20250926T111300
SUMMARY:Natalia Independent School District - Natalia\, TX 78059
LOCATION:1360 TX-132\, Natalia\, TX 78059\, US
DESCRIPTION:Selling: 2002 Chevrolet Blue Bird School Bus\,  2002 Chevro
 let Express Van\, 1996 CM Trailers - Livestock Trailer\, Mon
 tague Grizzly 6-Burner Gas Stove\, and More! - 14% B.P.
URL:https://www.onlinepros.com/auctions/detail/bw147634
SEQUENCE:1
END:VEVENT
END:VCALENDAR