BEGIN:VCALENDAR
VERSION:2.0
PRODID:-//ExpressionEngine Easy iCalendar plugin//NONSGML v2.0.0//EN
X-WR-TIMEZONE:America/Chicago
X-WR-CALNAME:Upcoming Auctions
BEGIN:VEVENT
UID:148880
DTSTAMP:20250923T100000
DTSTART:20250923T100000
DTEND:20251003T100000
SUMMARY:Fort Bend County (Surplus) - Needville\, TX 77461
LOCATION:9110 Long Street\, Needville\, TX 77461\, US
DESCRIPTION:Selling: Laptops\, Office Supplies\, Front & Near Bumpers\, Air
  Compressors\, And More!
URL:https://www.onlinepros.com/auctions/detail/bw148880
SEQUENCE:1
END:VEVENT
END:VCALENDAR