BEGIN:VCALENDAR
VERSION:2.0
PRODID:-//ExpressionEngine Easy iCalendar plugin//NONSGML v2.0.1//EN
X-WR-TIMEZONE:America/Chicago
X-WR-CALNAME:Upcoming Auctions
BEGIN:VEVENT
UID:152987
DTSTAMP:20260423T110000
DTSTART:20260423T110000
DTEND:20260501T101700
SUMMARY:Altech (Auction #6) - Tomball\, TX 77377
LOCATION:18810 Juergen Rd\, Tomball\, TX 77377\, US
DESCRIPTION:Selling: Samsung Washer and Dryers\, Wine Coolers\, Natural Ga
 s Fire Table\, Jegs Auto Hoods\, and More! - 14% B.P. 
URL:https://www.onlinepros.com/auctions/detail/bw152987
SEQUENCE:1
END:VEVENT
END:VCALENDAR