BEGIN:VCALENDAR
VERSION:2.0
PRODID:-//ExpressionEngine Easy iCalendar plugin//NONSGML v2.0.1//EN
X-WR-TIMEZONE:America/Chicago
X-WR-CALNAME:Upcoming Auctions
BEGIN:VEVENT
UID:160573
DTSTAMP:20260422T120000
DTSTART:20260422T120000
DTEND:20260430T121000
SUMMARY:Welding Equipment\, Electrical\, Pressure Washers\, Plumbing Ki
 ts\, and More - Tomball\, TX 77377
LOCATION:18810 Juergen Rd\, Tomball\, TX 77377\, US
DESCRIPTION:Selling: Miller Welder\, Welding Partitions\, Punch Presses\, P
 lumbing Kits\, Drill Press\, Electric Motors\, and More! - 14% 
 B.P. 
URL:https://www.onlinepros.com/auctions/detail/bw160573
SEQUENCE:1
END:VEVENT
END:VCALENDAR