BEGIN:VCALENDAR
VERSION:2.0
PRODID:-//ExpressionEngine Easy iCalendar plugin//NONSGML v2.0.1//EN
X-WR-TIMEZONE:America/Chicago
X-WR-CALNAME:Upcoming Auctions
BEGIN:VEVENT
UID:160766
DTSTAMP:20260422T120000
DTSTART:20260422T120000
DTEND:20260430T124400
SUMMARY:High Mast Flood Lights\, Generac Generators\, and More - Tomba
 ll\, TX 77377
LOCATION:18810 Juergen Rd\, Tomball\, TX 77377\, US
DESCRIPTION:Selling: High Mast Flood Lights\, Generac Generators\, Cool
 ing Fans\, Pressure Gauges and Welding Tips\, Wire Cable\, an
 d More! -  14% B.P.
URL:https://www.onlinepros.com/auctions/detail/bw160766
SEQUENCE:1
END:VEVENT
END:VCALENDAR