BEGIN:VCALENDAR
VERSION:2.0
PRODID:-//ExpressionEngine Easy iCalendar plugin//NONSGML v2.0.1//EN
X-WR-TIMEZONE:America/Chicago
X-WR-CALNAME:Upcoming Auctions
BEGIN:VEVENT
UID:160774
DTSTAMP:20260422T100000
DTSTART:20260422T100000
DTEND:20260501T100000
SUMMARY:Brenham Independent School District - Brenham\, TX 77833
LOCATION:{location}
DESCRIPTION:Selling: 2009 International School Bus\, John Deere Gator\, 
 2001 Pace American Cargo Trailer\, and More! - 14% B.P. 
URL:https://www.onlinepros.com/auctions/detail/bw160774
SEQUENCE:1
END:VEVENT
END:VCALENDAR