BEGIN:VCALENDAR
VERSION:2.0
PRODID:-//ExpressionEngine Easy iCalendar plugin//NONSGML v2.0.0//EN
X-WR-TIMEZONE:America/Chicago
X-WR-CALNAME:Upcoming Auctions
BEGIN:VEVENT
UID:160782
DTSTAMP:20260421T100000
DTSTART:20260421T100000
DTEND:20260512T120000
SUMMARY:ISAT (Portables) - Arlington\, TX 76010
LOCATION:1700 S Center St\, Arlington \, TX 76010\, US
DESCRIPTION:Selling: Portables! - 14% B.P. 
URL:https://www.onlinepros.com/auctions/detail/bw160782
SEQUENCE:1
END:VEVENT
END:VCALENDAR