BEGIN:VCALENDAR
VERSION:2.0
PRODID:-//ExpressionEngine Easy iCalendar plugin//NONSGML v2.0.0//EN
X-WR-TIMEZONE:America/Chicago
X-WR-CALNAME:Upcoming Auctions
BEGIN:VEVENT
UID:160794
DTSTAMP:20260420T100000
DTSTART:20260420T100000
DTEND:20260429T100000
SUMMARY:Dakota Express (Lighting) - Tomball\, TX 77377
LOCATION:18810 Juergen Rd\, Tomball\, TX 77377\, US
DESCRIPTION:Selling: LED Lights\, Light Fixtures\, and More! - 14% B.P.
URL:https://www.onlinepros.com/auctions/detail/bw160794
SEQUENCE:1
END:VEVENT
END:VCALENDAR