BEGIN:VCALENDAR
VERSION:2.0
PRODID:-//ExpressionEngine Easy iCalendar plugin//NONSGML v2.0.1//EN
X-WR-TIMEZONE:America/Chicago
X-WR-CALNAME:Upcoming Auctions
BEGIN:VEVENT
UID:160901
DTSTAMP:20260424T100000
DTSTART:20260424T100000
DTEND:20260505T120000
SUMMARY:Conroe Independent School District (Buses & Vehicles) - Conr
 oe\, TX 77304
LOCATION:{location}
DESCRIPTION:Selling: 2000 Freightliner FS65 School Bus\, 2002 Thomas FS
 65 School Bus\, 2002 Chevrolet 2500 Series Pickup\, Miscellan
 eous Bus Parts\, and More! - 14% B.P.
URL:https://www.onlinepros.com/auctions/detail/bw160901
SEQUENCE:1
END:VEVENT
END:VCALENDAR