BEGIN:VCALENDAR
VERSION:2.0
PRODID:-//ExpressionEngine Easy iCalendar plugin//NONSGML v2.0.0//EN
X-WR-TIMEZONE:America/Chicago
X-WR-CALNAME:Upcoming Auctions
BEGIN:VEVENT
UID:160911
DTSTAMP:20260527T100000
DTSTART:20260527T100000
DTEND:20260605T100000
SUMMARY:(Coming Soon) Austin Independent School District
LOCATION:{location}
DESCRIPTION:Coming May 27th\, 2026
URL:https://www.onlinepros.com/auctions/detail/bw160911
SEQUENCE:1
END:VEVENT
END:VCALENDAR