BEGIN:VCALENDAR
VERSION:2.0
PRODID:-//ExpressionEngine Easy iCalendar plugin//NONSGML v2.0.0//EN
X-WR-TIMEZONE:America/Chicago
X-WR-CALNAME:Upcoming Auctions
BEGIN:VEVENT
UID:160912
DTSTAMP:20260603T100000
DTSTART:20260603T100000
DTEND:20260612T120000
SUMMARY:(Coming Soon) Tomball Independent School District
LOCATION:{location}
DESCRIPTION:Coming June 3rd\, 2026
URL:https://www.onlinepros.com/auctions/detail/bw160912
SEQUENCE:1
END:VEVENT
END:VCALENDAR