BEGIN:VCALENDAR
VERSION:2.0
PRODID:-//ExpressionEngine Easy iCalendar plugin//NONSGML v2.0.1//EN
X-WR-TIMEZONE:America/Chicago
X-WR-CALNAME:Upcoming Auctions
BEGIN:VEVENT
UID:161002
DTSTAMP:20260423T100000
DTSTART:20260423T100000
DTEND:20260522T120000
SUMMARY:Groome Transportation (Buses) - Chattanooga\, TN 37412
LOCATION:5712 Ringgold Rd\, Chattanooga\, TN 37412\, US
DESCRIPTION:Selling: 2017 International IC Bus and 2018 International 
 IC Buses! - 14% B.P. 
URL:https://www.onlinepros.com/auctions/detail/bw161002
SEQUENCE:1
END:VEVENT
END:VCALENDAR