BEGIN:VCALENDAR
VERSION:2.0
PRODID:-//ExpressionEngine Easy iCalendar plugin//NONSGML v2.0.0//EN
X-WR-TIMEZONE:America/Chicago
X-WR-CALNAME:Upcoming Auctions
BEGIN:VEVENT
UID:46323
DTSTAMP:20200117T100000
DTSTART:20200117T100000
DTEND:20200130T120000
SUMMARY:Seguin Independent School District
LOCATION:1005 E. Seidemann St.\, Seguin\, TX 78155\, US
DESCRIPTION:Selling: (6) School Buses 14% B.P.
URL:https://www.onlinepros.com/auctions/detail/bw46323
SEQUENCE:1
END:VEVENT
END:VCALENDAR