BEGIN:VCALENDAR
VERSION:2.0
PRODID:-//ExpressionEngine Easy iCalendar plugin//NONSGML v2.0.1//EN
X-WR-TIMEZONE:America/Chicago
X-WR-CALNAME:Upcoming Auctions
BEGIN:VEVENT
UID:46484
DTSTAMP:20200128T090000
DTSTART:20200128T090000
DTEND:20200207T100000
SUMMARY:Contractor Surplus 1
LOCATION:18810 Juergen Rd\, Tomball\, TX 77377\, US
DESCRIPTION:Selling: Woodworking and Construction Shop Equipment and Mor
 e. B.P. 13%
URL:https://www.onlinepros.com/auctions/detail/bw46484
SEQUENCE:1
END:VEVENT
END:VCALENDAR