BEGIN:VCALENDAR
VERSION:2.0
PRODID:-//ExpressionEngine Easy iCalendar plugin//NONSGML v2.0.0//EN
X-WR-TIMEZONE:America/Chicago
X-WR-CALNAME:Upcoming Auctions
BEGIN:VEVENT
UID:83358
DTSTAMP:20220622T120000
DTSTART:20220622T120000
DTEND:20220701T120000
SUMMARY:Ford Tractor - West Columbia\, TX
LOCATION:Removal Info Listed At The Bottom Of The Invoice\, West Colum
 bia\, TX 77422\, US
DESCRIPTION:Selling: Ford Tractor - B.P. 14%
URL:https://www.onlinepros.com/auctions/detail/bw83358
SEQUENCE:1
END:VEVENT
END:VCALENDAR