BEGIN:VCALENDAR
VERSION:2.0
PRODID:-//ExpressionEngine Easy iCalendar plugin//NONSGML v2.0.1//EN
X-WR-TIMEZONE:America/Chicago
X-WR-CALNAME:Upcoming Auctions
BEGIN:VEVENT
UID:84901
DTSTAMP:20220722T100000
DTSTART:20220722T100000
DTEND:20220802T120000
SUMMARY:Tyler Independent School District (Vehicles) - Tyler\, TX
LOCATION:2800 W Shaw\, Tyler\, TX 75701\, US
DESCRIPTION:Selling: Buses and Pickups\, Vans and More - B.P. 14%
URL:https://www.onlinepros.com/auctions/detail/bw84901
SEQUENCE:1
END:VEVENT
END:VCALENDAR